BEGIN:VCALENDAR
VERSION:2.0
METHOD:PUBLISH
PRODID:Data::ICal 0.22
BEGIN:VEVENT
DESCRIPTION:<strong>Der Seniorenbeirat im Dialog</strong><br />\n<br />\nIn
 formative und praxisnahe Beitr&auml\;ge rund um wichtige Themen des Alltag
 s im Alter.<br />\nDer Seniorenbeirat der Stadt Hanau herzlich zu einer sp
 annenden Vortragsreihe ein.<br />\n<br />\n<strong>Mittwoch\, 29. April:&n
 bsp\;</strong><br />\nHerrn Lothar Hain - Ruhestand: &quot\;Jetzt machen w
 ir erst mal nichts-und dann sehen wir weiter&quot\;<br />\n<br />\n<strong
 >Mittwoch\, 27. Mai:</strong><br />\nHerrn William Planz - Sicherheit im A
 lltag<br />\n<br />\n<strong>Mittwoch\, 24. Juni:&nbsp\;</strong><br />\nH
 errn Dr. Tobias Angert - Krisen und Katastrophen-Vorsorgen sch&uuml\;tzt v
 or Sorgen<br />\n<br />\nZus&auml\;tzlich bietet die Tagesbas &quot\;Lili
 Catering&quot\;\, ab 10 Uhr folgendes an:<br />\n<br />\n<strong>KLEINES L
 ILI FR&Uuml\;HST&Uuml\;CK</strong><br />\nKleines Fr&uuml\;hst&uuml\;ck\,
 gro&szlig\;er Genuss!<br />\nFilterkaffee oder Tee\, ein frisches Br&ouml\
 ;tchen mit Butter &amp\; Marmelade &ndash\; mehr braucht&rsquo\;s nicht zu
 m Gl&uuml\;cklichsein.<br />\n&nbsp\;
DTEND:20260429T100000Z
DTSTAMP:19971210T080000Z
DTSTART:20260429T090000Z
LOCATION:Am Markt 2\, 63450 Hanau\, Innenstadt
ORGANIZER:Stadthof Hanau
SEQUENCE:0
STATUS:CONFIRMED
SUMMARY:Der Seniorenbeirat im Dialog
TRANSP:OPAQUE
UID:/2/208/209/576/1831412026/04/29
URL:https://www.hanau.de/hanau.de/freizeit/veranstaltungskalender/veranstal
 tungen/183141_termin.ics
END:VEVENT
END:VCALENDAR
